Workbook

Sheet RESUMEN DE PARTIDAS MNTO
A5: INSTITUTO DE SERVICIOS DE SALUD PUBLICA DEL ESTADO DE BAJA CALIFORNIA
A6: DIRECCION DE ADMINISTRACION
A7: DEPARTAMENTO DE CONSERVACION Y MANTENIMIENTO
A8: RESUMEN DE PARTIDAS
A9: ASUNTO | B9: PRESUPUESTO BASE | E9: FECHA | F9: 44615
A10: TRABAJOS | B10: MANTENIMIENTOS PREVENTIVOS ESTATALES
A11: ELABORO | D11: PLAZO DE EJECUCION
A12: PARTIDA | B12: CLAVE | F12: IMPORTE
A14: 1 | B14: ='Materno Infantil Mxli'!B9 -> MANTENIMIENTO PREVENTIVO CALDERAS HOSPITAL MATERNO INFANTIL MEXICALI | F14: ='Materno Infantil Mxli'!F18 -> 0
B15: NUMERO DE SERVICIOS | F15: 3
B16: TOTAL HMI MEXICALI | F16: =F15*F14 -> 0
A18: 2 | B18: ='Hg Mexicali'!B9 -> MANTENIMIENTO PREVENTIVO CALDERAS HOSPITAL GENERAL DE MEXICALI | F18: ='Hg Mexicali'!F19 -> 0
B19: NUMERO DE SERVICIOS | F19: 1
B20: TOTAL HG MEXICALI | F20: =F19*F18 -> 0
A22: 3 | B22: ='HG Tijuana'!B9 -> MANTENIMIENTO PREVENTIVO CALDERAS HOSPITAL GENERAL DE TIJUANA | F22: ='HG Tijuana'!F18 -> 0
B23: NUMERO DE SERVICIOS | F23: 3
B24: TOTAL HG TIJUANA | F24: =F23*F22 -> 0
A26: 4 | B26: ='Materno Infantil TJ'!B9 -> MANTENIMIENTO PREVENTIVO CALDERAS HOSPITAL MATERNO INFANTIL TIJUANA | F26: ='Materno Infantil TJ'!F19 -> 0
B27: NUMERO DE SERVICIOS | F27: 1
B28: TOTAL HMI TIJUANA | F28: =F27*F26 -> 0
A30: 5 | B30: ='HG ENSENADA'!B9 -> MANTENIMIENTO PREVENTIVO CALDERAS HOSPITAL GENERAL DE ENSENADA | F30: ='HG ENSENADA'!F18 -> 0
B31: NUMERO DE SERVICIOS | F31: 2
B32: TOTAL HG ENSENADA | F32: =F31*F30 -> 0
B33: SUBTOTAL | F33: =F32+F28+F24+F20+F16 -> 0
B34: IVA 16% | F34: =F33*0.16 -> 0
B35: TOTAL | F35: =F34+F33 -> 0

Sheet Materno Infantil Mxli
A1: INSTITUTO DE SERVICIOS DE SALUD PUBLICA DEL ESTADO DE BAJA CALIFORNIA
A5: DIRECCION DE ADMINISTRACION
A6: DEPARTAMENTO DE CONSERVACION Y MANTENIMIENTO
A7: CATALOGO DE CONCEPTOS
A9: ALCANCE | B9: MANTENIMIENTO PREVENTIVO CALDERAS HOSPITAL MATERNO INFANTIL MEXICALI | E9: FECHA | F9: 44615
A14: CVE | B14: CONCEPTO | C14: UNIDAD | D14: CANTIDAD | E14: P.UNITARIO | F14: IMPORTE.
A15: 1 | B15: MANTENIMIENTO PREVENTIVO CALDERAS HMI MEXICALI
A16: 1.01 | B16: Servicio de mantenimiento preventivo a caldera generador de vapor 40 cc marca clayton, se incluye:Limpieza y ajuste del quemador, boquillas y electrodos, revision y limpieza del filtro de combustible, revision de bomba de agua, revision y limpieza del ventilador, ajuste del estrangulador de aire, inspeccion y ajuste de termostato, prueba de control de temperatura, revision y ajuste de valvula de alivio, servicio de carburacion, entrega de reporte fisico y digital, asi como todo lo necesario para la corrrecta ejecucion del mantenimiento preventivo y operacion del equipo. | C16: PZA | D16: 1 | E16: 0 | F16: =D16*E16 -> 0
E18: SUBTOTAL | F18: 0
E19: IVA | F19: =F18*0.16 -> 0
E20: TOTAL | F20: =F19+F18 -> 0

Sheet Hg Mexicali
A1: INSTITUTO DE SERVICIOS DE SALUD PUBLICA DEL ESTADO DE BAJA CALIFORNIA
A5: DIRECCION DE ADMINISTRACION
A6: DEPARTAMENTO DE CONSERVACION Y MANTENIMIENTO
A7: CATALOGO DE CONCEPTOS
A9: ALCANCE | B9: MANTENIMIENTO PREVENTIVO CALDERAS HOSPITAL GENERAL DE MEXICALI | E9: FECHA | F9: 44615
A14: CVE | B14: CONCEPTO | C14: UNIDAD | D14: CANTIDAD | E14: P.UNITARIO | F14: IMPORTE.
A15: 2 | B15: MANTENIMIENTO PREVENTIVO CALDERAS HG MEXICALI
A16: 2.01 | B16: Servicio de mantenimiento preventivo a caldera 100 cc marca cleaver brooks, se incluye: Apertura de tapas de caldera, cepillado de tubos lado de fuego, limpieza de espejos frontal y posterior, retiro de tortugas de inspeccion, retiro de sedimentos colapsados con bomba de presion en interior lado de agua, cambio de empaques y sujetadoras, limpieza de controles, reparacio de fisuras en tapas y anillo refractario, suministro y cambio de mirilla de nivel, suministro y cambio de valvula de purga, suministro e instalacion de kit de valvula dosificadora y diafragmas de regulacion de diesel, calibracion de flama con analizador de combustion asi como todo lo necesario para la corrrecta ejecucion del mantenimiento preventivo y operacion del equipo. | C16: PZA | D16: 1 | E16: 0 | F16: =D16*E16 -> 0
A17: 2.02 | B17: Servicio de mantenimiento preventivo a caldera 150 cc marca cleaver brooks, se incluye: Apertura de tapas de caldera, cepillado de tubos lado de fuego, limpieza de espejos frontal y posterior, retiro de tortugas de inspeccion, retiro de sedimentos colapsados con bomba de presion en interior lado de agua, cambio de empaques y sujetadoras, limpieza de controles, reparacio de fisuras en tapas y anillo refractario, suministro y cambio de mirilla de nivel, suministro y cambio de valvula de purga, suministro e instalacion de kit de valvula dosificadora y diafragmas de regulacion de diesel, calibracion de flama con analizador de combustion asi como todo lo necesario para la corrrecta ejecucion del mantenimiento preventivo y operacion del equipo. | C17: PZA | D17: 1 | E17: 0 | F17: =D17*E17 -> 0
A18: 2.03 | B18: Servicio de mantenimiento preventivo a tanque de almacenamiento de agua caliente de 58" de diametro por 14 ft de longitud, incluye suministro y aplicación de pintura epoxica en interior, suministro y aplicación de pintura esmalte en exterior, limpieza interior de tanque, cambio de empaques en escotillas de acceso y todo lo necesario para la correcta ejecucion del mantenimiento preventivo y operacion del equipo. | C18: PZA | D18: 2 | E18: 0 | F18: =D18*E18 -> 0
E19: SUBTOTAL | F19: =F16 -> 0
E20: IVA | F20: =F19*0.16 -> 0
E21: TOTAL | F21: =F20+F19 -> 0

Sheet HG Tijuana
A1: INSTITUTO DE SERVICIOS DE SALUD PUBLICA DEL ESTADO DE BAJA CALIFORNIA
A5: DIRECCION DE ADMINISTRACION
A6: DEPARTAMENTO DE CONSERVACION Y MANTENIMIENTO
A7: CATALOGO DE CONCEPTOS
A9: ALCANCE | B9: MANTENIMIENTO PREVENTIVO CALDERAS HOSPITAL GENERAL DE TIJUANA | E9: FECHA | F9: 44615
A14: CVE | B14: CONCEPTO | C14: UNIDAD | D14: CANTIDAD | E14: P.UNITARIO | F14: IMPORTE.
A15: 3 | B15: MANTENIMIENTO PREVENTIVO CALDERAS HG TIJUANA
A16: 3.01 | B16: Servicio de mantenimiento preventivo a caldera 40 cc para agua caliente marca clayton TG 700, se incluye:Limpieza y ajuste del quemador, boquillas y electrodos, revision y limpieza del filtro de combustible, revision de bomba de agua, revision y limpieza del ventilador, ajuste del estrangulador de aire, inspeccion y ajuste de termostato, prueba de control de temperatura, revision y ajuste de valvula de alivio, inspeccion visual de tanque de agua caliente, servicio de carburacion, entrega de reporte fisico y digital, asi como todo lo necesario para la corrrecta ejecucion del mantenimiento preventivo y operacion del equipo. | C16: PZA | D16: 1 | E16: 0 | F16: =D16*E16 -> 0
A17: 3.02 | B17: Servicio de mantenimiento preventivo a caldera doble generador de vapor 10 cc marca clayton PTG 700, se incluye:Limpieza y ajuste del quemador, boquillas y electrodos, revision y limpieza del filtro de combustible, revision de bomba de agua, revision y limpieza del ventilador, ajuste del estrangulador de aire, inspeccion y ajuste de termostato, prueba de control de temperatura, revision y ajuste de valvula de alivio, servicio de carburacion, entrega de reporte fisico y digital, asi como todo lo necesario para la corrrecta ejecucion del mantenimiento preventivo y operacion del equipo. | C17: PZA | D17: 1 | E17: 0 | F17: =D17*E17 -> 0
E18: SUBTOTAL | F18: =SUM(F16:F17) -> 0
E19: IVA | F19: =F18*0.16 -> 0
E20: TOTAL | F20: =F19+F18 -> 0

Sheet Materno Infantil TJ
A5: DIRECCION DE ADMINISTRACION
A6: DEPARTAMENTO DE CONSERVACION Y MANTENIMIENTO
A7: CATALOGO DE CONCEPTOS
A9: ALCANCE | B9: MANTENIMIENTO PREVENTIVO CALDERAS HOSPITAL MATERNO INFANTIL TIJUANA | E9: FECHA | F9: 44615
A14: CVE | B14: CONCEPTO | C14: UNIDAD | D14: CANTIDAD | E14: P.UNITARIO | F14: IMPORTE.
A15: 4 | B15: MANTENIMIENTO PREVENTIVO CALDERAS HMI TJ
A16: 4.01 | B16: Servicio de mantenimiento preventivo a caldera 40 cc marca cleaver brooks, se incluye: Apertura de tapas de caldera, cepillado de tubos lado de fuego, limpieza de espejos frontal y posterior, retiro de tortugas de inspeccion, retiro de sedimentos colapsados con bomba de presion en interior lado de agua, cambio de empaques y sujetadoras, limpieza de controles, reparacio de fisuras en tapas y anillo refractario, suministro y cambio de mirilla de nivel, suministro y cambio de valvula de purga, suministro e instalacion de kit de valvula dosificadora y diafragmas de regulacion de diesel, calibracion de flama con analizador de combustion asi como todo lo necesario para la corrrecta ejecucion del mantenimiento preventivo y operacion del equipo. | C16: PZA | D16: 2 | E16: 0 | F16: =D16*E16 -> 0
A17: 4.02 | B17: Servicio de mantenimiento preventivo a tanque de almacenamiento de agua caliente de 58" de diametro por 10 ft de longitud, incluye suministro y aplicación de pintura epoxica en interior, suministro y aplicación de pintura esmalte en exterior, limpieza interior de tanque, cambio de empaques en escotillas de acceso y todo lo necesario para la correcta ejecucion del mantenimiento preventivo y operacion del equipo. | C17: PZA | D17: 1 | E17: 0 | F17: =D17*E17 -> 0
E19: SUBTOTAL | F19: =SUM(F16:F17) -> 0
E20: IVA | F20: =F19*0.16 -> 0
E21: TOTAL | F21: =F20+F19 -> 0

Sheet HG ENSENADA
A1: INSTITUTO DE SERVICIOS DE SALUD PUBLICA DEL ESTADO DE BAJA CALIFORNIA
A5: DIRECCION DE ADMINISTRACION
A6: DEPARTAMENTO DE CONSERVACION Y MANTENIMIENTO
A7: CATALOGO DE CONCEPTOS
A9: ALCANCE | B9: MANTENIMIENTO PREVENTIVO CALDERAS HOSPITAL GENERAL DE ENSENADA | E9: FECHA | F9: 44615
A14: CVE | B14: CONCEPTO | C14: UNIDAD | D14: CANTIDAD | E14: P.UNITARIO | F14: IMPORTE.
A15: 5 | B15: MANTENIMIENTO PREVENTIVO CALDERAS HG ENSENADA
A16: 5.01 | B16: Servicio de mantenimiento preventivo a caldera 40 cc para agua caliente marca clayton TG 700, se incluye:Limpieza y ajuste del quemador, boquillas y electrodos, revision y limpieza del filtro de combustible, revision de bomba de agua, revision y limpieza del ventilador, ajuste del estrangulador de aire, inspeccion y ajuste de termostato, prueba de control de temperatura, revision y ajuste de valvula de alivio, inspeccion visual de tanque de agua caliente, servicio de carburacion, entrega de reporte fisico y digital, asi como todo lo necesario para la corrrecta ejecucion del mantenimiento preventivo y operacion del equipo. | C16: PZA | D16: 1 | E16: 0 | F16: =D16*E16 -> 0
A17: 5.02 | B17: Servicio de mantenimiento preventivo a caldera 40 cc marca MCKENNA, se incluye: Apertura de tapas de caldera, cepillado de tubos lado de fuego, limpieza de espejos frontal y posterior, retiro de tortugas de inspeccion, retiro de sedimentos colapsados con bomba de presion en interior lado de agua, cambio de empaques y sujetadoras, limpieza de controles, reparacio de fisuras en tapas y anillo refractario, suministro y cambio de mirilla de nivel, suministro y cambio de valvula de purga, suministro e instalacion de kit de valvula dosificadora y diafragmas de regulacion de diesel, calibracion de flama con analizador de combustion asi como todo lo necesario para la corrrecta ejecucion del mantenimiento preventivo y operacion del equipo. | C17: PZA | D17: 1 | E17: 0 | F17: =D17*E17 -> 0
E18: SUBTOTAL | F18: =SUM(F16:F16) -> 0
E19: IVA | F19: =F18*0.16 -> 0
E20: TOTAL | F20: =F19+F18 -> 0
